BEGIN:VCALENDAR
VERSION:2.0
PRODID:-//hacksw/handcal//NONSGML v1.0//EN
CALSCALE:GREGORIAN
BEGIN:VEVENT
SUMMARY:Memoria historikoaz emakumeen ahotsetik
LOCATION:Gezala Auditoriuma
DTSTART:20210309T180000Z
DESCRIPTION:
URL;VALUE=URI:http://azkena.lezo.eus/eu/agenda/memoria-historikoaz-emakumeen-ahotsetik
DTSTAMP:20260420T154138Z
UID:69e62d1269b63
END:VEVENT
END:VCALENDAR