BEGIN:VCALENDAR
VERSION:2.0
PRODID:-//hacksw/handcal//NONSGML v1.0//EN
CALSCALE:GREGORIAN
BEGIN:VEVENT
SUMMARY:Cholitas
LOCATION:Gezala Auditoriuma
DTSTART:20220312T180000Z
DESCRIPTION:
URL;VALUE=URI:http://azkena.lezo.eus/eu/agenda/cholitas
DTSTAMP:20260420T154142Z
UID:69e62d16c0929
END:VEVENT
END:VCALENDAR