BEGIN:VCALENDAR
VERSION:2.0
PRODID:-//hacksw/handcal//NONSGML v1.0//EN
CALSCALE:GREGORIAN
BEGIN:VEVENT
SUMMARY:Poesia eta musika emanaldia
LOCATION:Gurutze Santuaren Basilika
DTSTART:20221125T183000Z
DESCRIPTION:
URL;VALUE=URI:http://azkena.lezo.eus/eu/agenda/poesia-eta-musika-emanaldia
DTSTAMP:20260420T215453Z
UID:69e6848dcd40c
END:VEVENT
END:VCALENDAR