BEGIN:VCALENDAR
VERSION:2.0
PRODID:-//hacksw/handcal//NONSGML v1.0//EN
CALSCALE:GREGORIAN
BEGIN:VEVENT
SUMMARY:Barraskiloa eta balea
LOCATION:Gezala Auditoriuma
DTSTART:20221015T143000Z
DESCRIPTION:
URL;VALUE=URI:http://azkena.lezo.eus/eu/agenda/barraskiloa-eta-balea
DTSTAMP:20260420T172205Z
UID:69e6449dab11f
END:VEVENT
END:VCALENDAR