BEGIN:VCALENDAR
VERSION:2.0
PRODID:-//hacksw/handcal//NONSGML v1.0//EN
CALSCALE:GREGORIAN
BEGIN:VEVENT
SUMMARY:Fabricando mujeres
LOCATION:Gezala Auditoriuma
DTSTART:20221105T180000Z
DESCRIPTION:
URL;VALUE=URI:http://azkena.lezo.eus/eu/agenda/fabricando-mujeres
DTSTAMP:20260420T225847Z
UID:69e6938796c9c
END:VEVENT
END:VCALENDAR