BEGIN:VCALENDAR
VERSION:2.0
PRODID:-//hacksw/handcal//NONSGML v1.0//EN
CALSCALE:GREGORIAN
BEGIN:VEVENT
SUMMARY:Tipularen sehaska kanta
LOCATION:Gezala Auditoriuma
DTSTART:20221217T180000Z
DESCRIPTION:
URL;VALUE=URI:http://azkena.lezo.eus/eu/agenda/tipularen-sehaska-kanta
DTSTAMP:20260420T205932Z
UID:69e67794cca53
END:VEVENT
END:VCALENDAR