BEGIN:VCALENDAR
VERSION:2.0
PRODID:-//hacksw/handcal//NONSGML v1.0//EN
CALSCALE:GREGORIAN
BEGIN:VEVENT
SUMMARY:Tailer akofonikoa
LOCATION:Gezala Auditoriuma
DTSTART:20240318T113500Z
DESCRIPTION:
URL;VALUE=URI:http://azkena.lezo.eus/eu/node/103938
DTSTAMP:20260421T000839Z
UID:69e6a3e7b708b
END:VEVENT
END:VCALENDAR