BEGIN:VCALENDAR
VERSION:2.0
PRODID:-//hacksw/handcal//NONSGML v1.0//EN
CALSCALE:GREGORIAN
BEGIN:VEVENT
SUMMARY:Artea
LOCATION:Gezala Auditoriuma
DTSTART:20250413T173000Z
DESCRIPTION:
URL;VALUE=URI:http://azkena.lezo.eus/eu/node/104406
DTSTAMP:20260425T011501Z
UID:69ebf9754a807
END:VEVENT
END:VCALENDAR