BEGIN:VCALENDAR
VERSION:2.0
PRODID:-//hacksw/handcal//NONSGML v1.0//EN
CALSCALE:GREGORIAN
BEGIN:VEVENT
SUMMARY:"Harpetarra"
LOCATION:Gezala Auditoriuma
DTSTART:20190316T163000Z
DESCRIPTION:
URL;VALUE=URI:https://azkena.lezo.eus/eu/agenda/harpetarra
DTSTAMP:20260422T043159Z
UID:69e8331fd0053
END:VEVENT
END:VCALENDAR