BEGIN:VCALENDAR
VERSION:2.0
PRODID:-//hacksw/handcal//NONSGML v1.0//EN
CALSCALE:GREGORIAN
BEGIN:VEVENT
SUMMARY:"Olentzero eta Amilaren sekretua"
LOCATION:Gezala Auditoriuma
DTSTART:20181222T163000Z
DESCRIPTION:
URL;VALUE=URI:https://azkena.lezo.eus/eu/agenda/olentzero-eta-amilaren-sekretua
DTSTAMP:20260422T131821Z
UID:69e8ae7d8eb1e
END:VEVENT
END:VCALENDAR