BEGIN:VCALENDAR
VERSION:2.0
PRODID:-//hacksw/handcal//NONSGML v1.0//EN
CALSCALE:GREGORIAN
BEGIN:VEVENT
SUMMARY:"Gure oroitzapenak"
LOCATION:Gezala Auditoriuma
DTSTART:20190126T190000Z
DESCRIPTION:
URL;VALUE=URI:https://azkena.lezo.eus/eu/kultura/gure-oroitzapenak
DTSTAMP:20260423T014002Z
UID:69e95c52b109b
END:VEVENT
END:VCALENDAR