BEGIN:VCALENDAR
VERSION:2.0
PRODID:-//hacksw/handcal//NONSGML v1.0//EN
CALSCALE:GREGORIAN
BEGIN:VEVENT
SUMMARY:"Rita arrastoan sartzen"
LOCATION:Gezala Auditoriuma
DTSTART:20190113T200000Z
DESCRIPTION:
URL;VALUE=URI:https://azkena.lezo.eus/eu/agenda/rita-arrastoan-sartzen
DTSTAMP:20260422T113638Z
UID:69e896a608786
END:VEVENT
END:VCALENDAR