BEGIN:VCALENDAR
VERSION:2.0
PRODID:-//hacksw/handcal//NONSGML v1.0//EN
CALSCALE:GREGORIAN
BEGIN:VEVENT
SUMMARY:Lesoinu 2019: "Lyceum Club"
LOCATION:Gezala Auditoriuma
DTSTART:20190407T200000Z
DESCRIPTION:
URL;VALUE=URI:https://azkena.lezo.eus/eu/agenda/lesoinu-2019-lyceum-club
DTSTAMP:20260422T005319Z
UID:69e7ffdfcce2a
END:VEVENT
END:VCALENDAR