BEGIN:VCALENDAR
VERSION:2.0
PRODID:-//hacksw/handcal//NONSGML v1.0//EN
CALSCALE:GREGORIAN
BEGIN:VEVENT
SUMMARY:Lesoinu 2019: Kantujira
LOCATION:Aiton Bordatik
DTSTART:20190413T123000Z
DESCRIPTION:
URL;VALUE=URI:https://azkena.lezo.eus/eu/agenda/lesoinu-2019-kantujira
DTSTAMP:20260422T023248Z
UID:69e817305c362
END:VEVENT
END:VCALENDAR