BEGIN:VCALENDAR
VERSION:2.0
PRODID:-//hacksw/handcal//NONSGML v1.0//EN
CALSCALE:GREGORIAN
BEGIN:VEVENT
SUMMARY:Sorgina Txirulina
LOCATION:Gezala Auditoriuma
DTSTART:20190409T180000Z
DESCRIPTION:
URL;VALUE=URI:https://azkena.lezo.eus/eu/agenda/sorgina-txirulina
DTSTAMP:20260422T040942Z
UID:69e82de65fa29
END:VEVENT
END:VCALENDAR