BEGIN:VCALENDAR
VERSION:2.0
PRODID:-//hacksw/handcal//NONSGML v1.0//EN
CALSCALE:GREGORIAN
BEGIN:VEVENT
SUMMARY:Lesoinu 2019: Concierto de Cámara
LOCATION:Gezala Auditoriuma
DTSTART:20190330T120000Z
DESCRIPTION:
URL;VALUE=URI:https://azkena.lezo.eus/eu/agenda/lesoinu-2019-concierto-de-camara
DTSTAMP:20260422T113629Z
UID:69e8969d183b4
END:VEVENT
END:VCALENDAR