BEGIN:VCALENDAR
VERSION:2.0
PRODID:-//hacksw/handcal//NONSGML v1.0//EN
CALSCALE:GREGORIAN
BEGIN:VEVENT
SUMMARY:Lesoinu 2019: Sweet Sara Band
LOCATION:Gezala Auditoriuma
DTSTART:20190331T200000Z
DESCRIPTION:
URL;VALUE=URI:https://azkena.lezo.eus/eu/agenda/lesoinu-2019-sweet-sara-band
DTSTAMP:20260422T133004Z
UID:69e8b13ce078c
END:VEVENT
END:VCALENDAR