BEGIN:VCALENDAR
VERSION:2.0
PRODID:-//hacksw/handcal//NONSGML v1.0//EN
CALSCALE:GREGORIAN
BEGIN:VEVENT
SUMMARY:"Linbo Planeta"
LOCATION:Gezala Auditoriuma
DTSTART:20190503T173000Z
DESCRIPTION:
URL;VALUE=URI:https://azkena.lezo.eus/eu/agenda/linbo-planeta
DTSTAMP:20260421T122147Z
UID:69e74fbb3d9b0
END:VEVENT
END:VCALENDAR