BEGIN:VCALENDAR
VERSION:2.0
PRODID:-//hacksw/handcal//NONSGML v1.0//EN
CALSCALE:GREGORIAN
BEGIN:VEVENT
SUMMARY:LESOINU 2019: Concierto de Folk Rock
LOCATION:Gezala Auditoriuma
DTSTART:20190410T193000Z
DESCRIPTION:
URL;VALUE=URI:https://azkena.lezo.eus/eu/agenda/lesoinu-2019-concierto-de-folk-rock
DTSTAMP:20260422T113723Z
UID:69e896d35ca04
END:VEVENT
END:VCALENDAR