BEGIN:VCALENDAR
VERSION:2.0
PRODID:-//hacksw/handcal//NONSGML v1.0//EN
CALSCALE:GREGORIAN
BEGIN:VEVENT
SUMMARY:"Dantza"
LOCATION:Gezala Auditoriuma
DTSTART:20190525T170000Z
DESCRIPTION:
URL;VALUE=URI:https://azkena.lezo.eus/eu/agenda/dantza
DTSTAMP:20260422T113755Z
UID:69e896f3217b7
END:VEVENT
END:VCALENDAR