BEGIN:VCALENDAR
VERSION:2.0
PRODID:-//hacksw/handcal//NONSGML v1.0//EN
CALSCALE:GREGORIAN
BEGIN:VEVENT
SUMMARY:Bertso jaialdia: Irati Alcantarilla\, Andoni Egaña\, Jokin Irastorza\, Sebastian Lizaso
LOCATION:
DTSTART:20190916T180000Z
DESCRIPTION:
URL;VALUE=URI:https://azkena.lezo.eus/es/agenda/bertso-jaialdia-irati-alcantarilla-andoni-egana-jokin-irastorza-sebastian-lizaso-0
DTSTAMP:20260419T222042Z
UID:69e5391a29c8d
END:VEVENT
END:VCALENDAR