BEGIN:VCALENDAR
VERSION:2.0
PRODID:-//hacksw/handcal//NONSGML v1.0//EN
CALSCALE:GREGORIAN
BEGIN:VEVENT
SUMMARY:"Xocolat"
LOCATION:Gezala Auditoriuma
DTSTART:20191018T153000Z
DESCRIPTION:
URL;VALUE=URI:https://azkena.lezo.eus/es/agenda/xocolat
DTSTAMP:20260421T122137Z
UID:69e74fb1300fc
END:VEVENT
END:VCALENDAR