BEGIN:VCALENDAR
VERSION:2.0
PRODID:-//hacksw/handcal//NONSGML v1.0//EN
CALSCALE:GREGORIAN
BEGIN:VEVENT
SUMMARY:"ZuTuberrak"
LOCATION:Gezala Auditoriuma
DTSTART:20191004T153000Z
DESCRIPTION:
URL;VALUE=URI:https://azkena.lezo.eus/es/agenda/zutuberrak
DTSTAMP:20260421T135532Z
UID:69e765b4a648a
END:VEVENT
END:VCALENDAR