BEGIN:VCALENDAR
VERSION:2.0
PRODID:-//hacksw/handcal//NONSGML v1.0//EN
CALSCALE:GREGORIAN
BEGIN:VEVENT
SUMMARY:"Mulïer"
LOCATION:Josetxo Etxandi frontoian
DTSTART:20190915T180000Z
DESCRIPTION:
URL;VALUE=URI:https://azkena.lezo.eus/es/agenda/mulier
DTSTAMP:20260421T175705Z
UID:69e79e519b7ab
END:VEVENT
END:VCALENDAR