BEGIN:VCALENDAR
VERSION:2.0
PRODID:-//hacksw/handcal//NONSGML v1.0//EN
CALSCALE:GREGORIAN
BEGIN:VEVENT
SUMMARY:"Maya erlea. Ezti jokoak"
LOCATION:Gezala Auditoriuma
DTSTART:20191228T160000Z
DESCRIPTION:
URL;VALUE=URI:https://azkena.lezo.eus/es/agenda/maya-erlea-ezti-jokoak
DTSTAMP:20260422T113750Z
UID:69e896ee1eb08
END:VEVENT
END:VCALENDAR