BEGIN:VCALENDAR
VERSION:2.0
PRODID:-//hacksw/handcal//NONSGML v1.0//EN
CALSCALE:GREGORIAN
BEGIN:VEVENT
SUMMARY:"Drácula"
LOCATION:Gezala Auditoriuma
DTSTART:20191215T190000Z
DESCRIPTION:
URL;VALUE=URI:https://azkena.lezo.eus/es/agenda/dracula
DTSTAMP:20260421T122848Z
UID:69e75160d2804
END:VEVENT
END:VCALENDAR