BEGIN:VCALENDAR
VERSION:2.0
PRODID:-//hacksw/handcal//NONSGML v1.0//EN
CALSCALE:GREGORIAN
BEGIN:VEVENT
SUMMARY:KASKAROT
LOCATION:Gezala Auditoriuma
DTSTART:20200313T161500Z
DESCRIPTION:
URL;VALUE=URI:https://azkena.lezo.eus/eu/agenda/kaskarot-0
DTSTAMP:20260421T071204Z
UID:69e7072421dd7
END:VEVENT
END:VCALENDAR