BEGIN:VCALENDAR
VERSION:2.0
PRODID:-//hacksw/handcal//NONSGML v1.0//EN
CALSCALE:GREGORIAN
BEGIN:VEVENT
SUMMARY:Burbuja
LOCATION:Gezala Auditoriuma - Eskoletarako emanaldia
DTSTART:20201023T073000Z
DESCRIPTION:
URL;VALUE=URI:https://azkena.lezo.eus/eu/agenda/burbuja
DTSTAMP:20260422T113727Z
UID:69e896d74d356
END:VEVENT
END:VCALENDAR