BEGIN:VCALENDAR
VERSION:2.0
PRODID:-//hacksw/handcal//NONSGML v1.0//EN
CALSCALE:GREGORIAN
BEGIN:VEVENT
SUMMARY:Italino Grand Hotel
LOCATION:Gezala Auditoriuma
DTSTART:20201127T161500Z
DESCRIPTION:
URL;VALUE=URI:https://azkena.lezo.eus/eu/agenda/italino-grand-hotel
DTSTAMP:20260422T063226Z
UID:69e84f5adad62
END:VEVENT
END:VCALENDAR