BEGIN:VCALENDAR
VERSION:2.0
PRODID:-//hacksw/handcal//NONSGML v1.0//EN
CALSCALE:GREGORIAN
BEGIN:VEVENT
SUMMARY:Juan-Luis Zabala "Ospa"
LOCATION:
DTSTART:20201108T190000Z
DESCRIPTION:
URL;VALUE=URI:https://azkena.lezo.eus/es/agenda/juan-luis-zabala-ospa
DTSTAMP:20260422T081246Z
UID:69e866de8bd23
END:VEVENT
END:VCALENDAR