BEGIN:VCALENDAR
VERSION:2.0
PRODID:-//hacksw/handcal//NONSGML v1.0//EN
CALSCALE:GREGORIAN
BEGIN:VEVENT
SUMMARY:Amaia Elizaran
LOCATION:Gezala Auditoriuma
DTSTART:20210225T183000Z
DESCRIPTION:
URL;VALUE=URI:https://azkena.lezo.eus/eu/agenda/amaia-elizaran
DTSTAMP:20260421T202547Z
UID:69e7c12b4e40b
END:VEVENT
END:VCALENDAR