BEGIN:VCALENDAR
VERSION:2.0
PRODID:-//hacksw/handcal//NONSGML v1.0//EN
CALSCALE:GREGORIAN
BEGIN:VEVENT
SUMMARY:Koko dragoi txikia oihanean 
LOCATION:Gezala Auditoriuma
DTSTART:20210116T153000Z
DESCRIPTION:
URL;VALUE=URI:https://azkena.lezo.eus/eu/agenda/koko-dragoi-txikia-oihanean
DTSTAMP:20260421T122918Z
UID:69e7517e7b0ac
END:VEVENT
END:VCALENDAR