BEGIN:VCALENDAR
VERSION:2.0
PRODID:-//hacksw/handcal//NONSGML v1.0//EN
CALSCALE:GREGORIAN
BEGIN:VEVENT
SUMMARY:Asto Erregea
LOCATION:Gezala Auditoriuma
DTSTART:20210424T143000Z
DESCRIPTION:
URL;VALUE=URI:https://azkena.lezo.eus/eu/agenda/asto-erregea
DTSTAMP:20260421T021013Z
UID:69e6c0651cd75
END:VEVENT
END:VCALENDAR