BEGIN:VCALENDAR
VERSION:2.0
PRODID:-//hacksw/handcal//NONSGML v1.0//EN
CALSCALE:GREGORIAN
BEGIN:VEVENT
SUMMARY:Caminho longe
LOCATION:Gezala Auditoriuma
DTSTART:20210515T170000Z
DESCRIPTION:
URL;VALUE=URI:https://azkena.lezo.eus/eu/agenda/caminho-longe
DTSTAMP:20260421T033855Z
UID:69e6d52fcaec6
END:VEVENT
END:VCALENDAR