BEGIN:VCALENDAR
VERSION:2.0
PRODID:-//hacksw/handcal//NONSGML v1.0//EN
CALSCALE:GREGORIAN
BEGIN:VEVENT
SUMMARY:Galtzaileak
LOCATION:Gezala Auditoriuma
DTSTART:20210228T160000Z
DESCRIPTION:
URL;VALUE=URI:https://azkena.lezo.eus/eu/agenda/galtzaileak
DTSTAMP:20260421T091817Z
UID:69e724b9c9f6a
END:VEVENT
END:VCALENDAR