BEGIN:VCALENDAR
VERSION:2.0
PRODID:-//hacksw/handcal//NONSGML v1.0//EN
CALSCALE:GREGORIAN
BEGIN:VEVENT
SUMMARY:Caballo Dostoyevsky
LOCATION:Gezala Auditoriuma
DTSTART:20210328T173000Z
DESCRIPTION:
URL;VALUE=URI:https://azkena.lezo.eus/eu/agenda/caballo-dostoyevsky
DTSTAMP:20260422T015110Z
UID:69e80d6e76198
END:VEVENT
END:VCALENDAR