BEGIN:VCALENDAR
VERSION:2.0
PRODID:-//hacksw/handcal//NONSGML v1.0//EN
CALSCALE:GREGORIAN
BEGIN:VEVENT
SUMMARY:Antroan Intro
LOCATION:Gezala Auditoriuma
DTSTART:20210620T173000Z
DESCRIPTION:
URL;VALUE=URI:https://azkena.lezo.eus/eu/agenda/antroan-intro-0
DTSTAMP:20260422T113741Z
UID:69e896e509bc2
END:VEVENT
END:VCALENDAR