BEGIN:VCALENDAR
VERSION:2.0
PRODID:-//hacksw/handcal//NONSGML v1.0//EN
CALSCALE:GREGORIAN
BEGIN:VEVENT
SUMMARY:Kolore kolore
LOCATION:Gezala Auditoriuma
DTSTART:20210611T160000Z
DESCRIPTION:
URL;VALUE=URI:https://azkena.lezo.eus/eu/agenda/kolore-kolore
DTSTAMP:20260421T154120Z
UID:69e77e8000304
END:VEVENT
END:VCALENDAR