BEGIN:VCALENDAR
VERSION:2.0
PRODID:-//hacksw/handcal//NONSGML v1.0//EN
CALSCALE:GREGORIAN
BEGIN:VEVENT
SUMMARY:Hika Teatroa "Tonbola"
LOCATION:Lezo Herri Eskolako patioa
DTSTART:20210813T210000Z
DESCRIPTION:
URL;VALUE=URI:https://azkena.lezo.eus/eu/agenda/hika-teatroa-tonbola
DTSTAMP:20260421T174155Z
UID:69e79ac37c0c5
END:VEVENT
END:VCALENDAR