BEGIN:VCALENDAR
VERSION:2.0
PRODID:-//hacksw/handcal//NONSGML v1.0//EN
CALSCALE:GREGORIAN
BEGIN:VEVENT
SUMMARY:Hortzmuga Teatroa "Bidearen amaieran"
LOCATION:Lezo Herri Eskolako patioa
DTSTART:20210903T180000Z
DESCRIPTION:
URL;VALUE=URI:https://azkena.lezo.eus/eu/agenda/hortzmuga-teatroa-bidearen-amaieran
DTSTAMP:20260421T191934Z
UID:69e7b1a6b23d3
END:VEVENT
END:VCALENDAR