BEGIN:VCALENDAR
VERSION:2.0
PRODID:-//hacksw/handcal//NONSGML v1.0//EN
CALSCALE:GREGORIAN
BEGIN:VEVENT
SUMMARY:ZETA-ZETA Aurkezpen saioa. Bertha Bermudez
LOCATION:Gezala Auditoriuma
DTSTART:20211007T173000Z
DESCRIPTION:
URL;VALUE=URI:https://azkena.lezo.eus/eu/agenda/zeta-zeta-aurkezpen-saioa-bertha-bermudez
DTSTAMP:20260421T004538Z
UID:69e6ac9201083
END:VEVENT
END:VCALENDAR