BEGIN:VCALENDAR
VERSION:2.0
PRODID:-//hacksw/handcal//NONSGML v1.0//EN
CALSCALE:GREGORIAN
BEGIN:VEVENT
SUMMARY:Giza gorputzaren erdigunera bidaia
LOCATION:Gezala Auditoriuma
DTSTART:20211015T151500Z
DESCRIPTION:
URL;VALUE=URI:https://azkena.lezo.eus/eu/agenda/giza-gorputzaren-erdigunera-bidaia
DTSTAMP:20260422T082042Z
UID:69e868ba0b924
END:VEVENT
END:VCALENDAR