BEGIN:VCALENDAR
VERSION:2.0
PRODID:-//hacksw/handcal//NONSGML v1.0//EN
CALSCALE:GREGORIAN
BEGIN:VEVENT
SUMMARY:Kranston ikastetxea: munstroen eskola
LOCATION:Gezala Auditoriuma
DTSTART:20211016T143000Z
DESCRIPTION:
URL;VALUE=URI:https://azkena.lezo.eus/eu/agenda/kranston-ikastetxea-munstroen-eskola
DTSTAMP:20260421T040904Z
UID:69e6dc4018cde
END:VEVENT
END:VCALENDAR