BEGIN:VCALENDAR
VERSION:2.0
PRODID:-//hacksw/handcal//NONSGML v1.0//EN
CALSCALE:GREGORIAN
BEGIN:VEVENT
SUMMARY: Berdintasunaren eta emakumearen ahalduntzearen inguruko tailerra
LOCATION:Kultura Aretoa
DTSTART:20211022T150000Z
DESCRIPTION:
URL;VALUE=URI:https://azkena.lezo.eus/eu/agenda/berdintasunaren-eta-emakumearen-ahalduntzearen-inguruko-tailerra
DTSTAMP:20260421T154251Z
UID:69e77edb8a397
END:VEVENT
END:VCALENDAR