BEGIN:VCALENDAR
VERSION:2.0
PRODID:-//hacksw/handcal//NONSGML v1.0//EN
CALSCALE:GREGORIAN
BEGIN:VEVENT
SUMMARY:Fake
LOCATION:Gezala Auditoriuma
DTSTART:20220306T190000Z
DESCRIPTION:
URL;VALUE=URI:https://azkena.lezo.eus/eu/agenda/fake
DTSTAMP:20260421T020538Z
UID:69e6bf525ba00
END:VEVENT
END:VCALENDAR