BEGIN:VCALENDAR
VERSION:2.0
PRODID:-//hacksw/handcal//NONSGML v1.0//EN
CALSCALE:GREGORIAN
BEGIN:VEVENT
SUMMARY:Besarkada
LOCATION:Gezala Auditoriuma
DTSTART:20220327T180000Z
DESCRIPTION:
URL;VALUE=URI:https://azkena.lezo.eus/eu/agenda/besarkada
DTSTAMP:20260421T192752Z
UID:69e7b3981c090
END:VEVENT
END:VCALENDAR