BEGIN:VCALENDAR
VERSION:2.0
PRODID:-//hacksw/handcal//NONSGML v1.0//EN
CALSCALE:GREGORIAN
BEGIN:VEVENT
SUMMARY:Arima
LOCATION:Gezala Auditoriuma
DTSTART:20220410T180000Z
DESCRIPTION:
URL;VALUE=URI:https://azkena.lezo.eus/eu/agenda/arima
DTSTAMP:20260421T002628Z
UID:69e6a8144416b
END:VEVENT
END:VCALENDAR