BEGIN:VCALENDAR
VERSION:2.0
PRODID:-//hacksw/handcal//NONSGML v1.0//EN
CALSCALE:GREGORIAN
BEGIN:VEVENT
SUMMARY:Winona & Grace
LOCATION:Gezala Auditoriuma
DTSTART:20220508T180000Z
DESCRIPTION:
URL;VALUE=URI:https://azkena.lezo.eus/eu/agenda/winona-grace
DTSTAMP:20260421T002632Z
UID:69e6a818c38a6
END:VEVENT
END:VCALENDAR