BEGIN:VCALENDAR
VERSION:2.0
PRODID:-//hacksw/handcal//NONSGML v1.0//EN
CALSCALE:GREGORIAN
BEGIN:VEVENT
SUMMARY:Kranston ikastetxea: munstroen eskola
LOCATION:Gezala Auditoriuma
DTSTART:20220115T153000Z
DESCRIPTION:
URL;VALUE=URI:https://azkena.lezo.eus/eu/agenda/kranston-ikastetxea-munstroen-eskola-0
DTSTAMP:20260421T073650Z
UID:69e70cf20c77e
END:VEVENT
END:VCALENDAR