BEGIN:VCALENDAR
VERSION:2.0
PRODID:-//hacksw/handcal//NONSGML v1.0//EN
CALSCALE:GREGORIAN
BEGIN:VEVENT
SUMMARY:Bolante baten historia
LOCATION:Gezala Auditoriuma
DTSTART:20220212T180000Z
DESCRIPTION:
URL;VALUE=URI:https://azkena.lezo.eus/eu/agenda/bolante-baten-historia
DTSTAMP:20260421T023330Z
UID:69e6c5da6f2f9
END:VEVENT
END:VCALENDAR